BEGIN:VCALENDAR
VERSION:2.0
PRODID:icalendar-ruby
CALSCALE:GREGORIAN
METHOD:PUBLISH
BEGIN:VEVENT
DTSTAMP:20260424T045526Z
UID:9-670734@newharvestministry.com
DTSTART:20260916T233000Z
DTEND:20260917T003000Z
CLASS:PUBLIC
CREATED:20260423T214908
DESCRIPTION:
LAST-MODIFIED:20260423T214908
LOCATION:New Harvest Ministry 
SUMMARY:Kingdom Life Class
URL;VALUE=URI:https://www.newharvestministry.com/events/kingdom-life-class/
 2026-09-16
END:VEVENT
END:VCALENDAR
