BEGIN:VCALENDAR
VERSION:2.0
PRODID:icalendar-ruby
CALSCALE:GREGORIAN
METHOD:PUBLISH
BEGIN:VEVENT
DTSTAMP:20260424T060917Z
UID:9-670735@newharvestministry.com
DTSTART:20260923T233000Z
DTEND:20260924T003000Z
CLASS:PUBLIC
CREATED:20260423T214909
DESCRIPTION:
LAST-MODIFIED:20260423T214909
LOCATION:New Harvest Ministry 
SUMMARY:Kingdom Life Class
URL;VALUE=URI:https://www.newharvestministry.com/events/kingdom-life-class/
 2026-09-23
END:VEVENT
END:VCALENDAR
