BEGIN:VCALENDAR
VERSION:2.0
PRODID:icalendar-ruby
CALSCALE:GREGORIAN
METHOD:PUBLISH
BEGIN:VEVENT
DTSTAMP:20260424T072534Z
UID:9-670736@newharvestministry.com
DTSTART:20260930T233000Z
DTEND:20261001T003000Z
CLASS:PUBLIC
CREATED:20260423T214909
DESCRIPTION:
LAST-MODIFIED:20260423T214909
LOCATION:New Harvest Ministry 
SUMMARY:Kingdom Life Class
URL;VALUE=URI:https://www.newharvestministry.com/events/kingdom-life-class/
 2026-09-30
END:VEVENT
END:VCALENDAR
