BEGIN:VCALENDAR
VERSION:2.0
PRODID:icalendar-ruby
CALSCALE:GREGORIAN
METHOD:PUBLISH
BEGIN:VEVENT
DTSTAMP:20260424T105613Z
UID:9-670739@newharvestministry.com
DTSTART:20261021T233000Z
DTEND:20261022T003000Z
CLASS:PUBLIC
CREATED:20260423T214909
DESCRIPTION:
LAST-MODIFIED:20260423T214909
LOCATION:New Harvest Ministry 
SUMMARY:Kingdom Life Class
URL;VALUE=URI:https://www.newharvestministry.com/events/kingdom-life-class/
 2026-10-21
END:VEVENT
END:VCALENDAR
