BEGIN:VCALENDAR
VERSION:2.0
PRODID:icalendar-ruby
CALSCALE:GREGORIAN
METHOD:PUBLISH
BEGIN:VEVENT
DTSTAMP:20260424T122348Z
UID:9-671304@newharvestministry.com
DTSTART:20261028T233000Z
DTEND:20261029T003000Z
CLASS:PUBLIC
CREATED:20260424T071726
DESCRIPTION:
LAST-MODIFIED:20260424T071726
LOCATION:New Harvest Ministry 
SUMMARY:Kingdom Life Class
URL;VALUE=URI:https://www.newharvestministry.com/events/kingdom-life-class/
 2026-10-28
END:VEVENT
END:VCALENDAR
