BEGIN:VCALENDAR
VERSION:2.0
PRODID:icalendar-ruby
CALSCALE:GREGORIAN
METHOD:PUBLISH
BEGIN:VEVENT
DTSTAMP:20260424T081958Z
UID:7-670637@newharvestministry.com
DTSTART:20261011T133000Z
DTEND:20261011T143000Z
CLASS:PUBLIC
CREATED:20260423T214908
DESCRIPTION:
LAST-MODIFIED:20260423T214908
LOCATION:New Harvest Ministry 
SUMMARY:Sunday Praise and Worship 1st Service 
URL;VALUE=URI:https://www.newharvestministry.com/events/sunday-praise-and-w
 orship-1st-service/2026-10-11
END:VEVENT
END:VCALENDAR
