BEGIN:VCALENDAR
VERSION:2.0
PRODID:icalendar-ruby
CALSCALE:GREGORIAN
METHOD:PUBLISH
BEGIN:VEVENT
DTSTAMP:20260424T114009Z
UID:1-670277@newharvestministry.com
DTSTART:20261025T153000Z
DTEND:20261025T163000Z
CLASS:PUBLIC
CREATED:20260423T214908
DESCRIPTION: \n 
LAST-MODIFIED:20260423T214908
LOCATION:New Harvest Ministry 
SUMMARY:Sunday Praise and Worship 2nd Service 
URL;VALUE=URI:https://www.newharvestministry.com/events/sunday-praise-and-w
 orship-2nd-service/2026-10-25
END:VEVENT
END:VCALENDAR
