BEGIN:VCALENDAR
VERSION:2.0
PRODID:icalendar-ruby
CALSCALE:GREGORIAN
METHOD:PUBLISH
BEGIN:VEVENT
DTSTAMP:20260424T130357Z
UID:1-670842@newharvestministry.com
DTSTART:20261101T163000Z
DTEND:20261101T173000Z
CLASS:PUBLIC
CREATED:20260424T071725
DESCRIPTION: \n 
LAST-MODIFIED:20260424T071725
LOCATION:New Harvest Ministry 
SUMMARY:Sunday Praise and Worship 2nd Service 
URL;VALUE=URI:https://www.newharvestministry.com/events/sunday-praise-and-w
 orship-2nd-service/2026-11-01
END:VEVENT
END:VCALENDAR
