BEGIN:VCALENDAR
VERSION:2.0
PRODID:icalendar-ruby
CALSCALE:GREGORIAN
METHOD:PUBLISH
BEGIN:VEVENT
DTSTAMP:20260424T084752Z
UID:5-670533@newharvestministry.com
DTSTART:20260920T150000Z
DTEND:20260920T160000Z
CLASS:PUBLIC
CREATED:20260423T214908
DESCRIPTION:Sunday Worship
LAST-MODIFIED:20260423T214908
LOCATION:1126 Hutson Drive Mobile\, AL. 36609
SUMMARY:Sunday Praise and Worship
URL;VALUE=URI:https://www.newharvestministry.com/events/sunday-praise-and-w
 orship/2026-09-20
END:VEVENT
END:VCALENDAR
