BEGIN:VCALENDAR
VERSION:2.0
PRODID:icalendar-ruby
CALSCALE:GREGORIAN
METHOD:PUBLISH
BEGIN:VEVENT
DTSTAMP:20260424T152903Z
UID:5-671666@newharvestministry.com
DTSTART:20261025T150000Z
DTEND:20261025T160000Z
CLASS:PUBLIC
CREATED:20260424T101016
DESCRIPTION:Sunday Worship
LAST-MODIFIED:20260424T101016
LOCATION:1126 Hutson Drive Mobile\, AL. 36609
SUMMARY:Sunday Praise and Worship
URL;VALUE=URI:https://www.newharvestministry.com/events/sunday-praise-and-w
 orship/2026-10-25
END:VEVENT
END:VCALENDAR
